BEGIN:VCALENDAR
VERSION:2.0
PRODID:-// - ECPv6.15.13.1//NONSGML v1.0//EN
CALSCALE:GREGORIAN
METHOD:PUBLISH
X-ORIGINAL-URL:https://bosmansdamprimaryschool.co.za
X-WR-CALDESC:Events for 
REFRESH-INTERVAL;VALUE=DURATION:PT1H
X-Robots-Tag:noindex
X-PUBLISHED-TTL:PT1H
BEGIN:VTIMEZONE
TZID:UTC
BEGIN:STANDARD
TZOFFSETFROM:+0000
TZOFFSETTO:+0000
TZNAME:UTC
DTSTART:20190101T000000
END:STANDARD
END:VTIMEZONE
BEGIN:VEVENT
DTSTART;TZID=UTC:20201215T080000
DTEND;TZID=UTC:20201215T120000
DTSTAMP:20260421T102445
CREATED:20201011T073548Z
LAST-MODIFIED:20201011T074109Z
UID:395-1608019200-1608033600@bosmansdamprimaryschool.co.za
SUMMARY:Bosmansdam Primary Year End Party
DESCRIPTION:Bosmansdam Primary Year End Party
URL:https://bosmansdamprimaryschool.co.za/event/bosmansdam-primary-event/
CATEGORIES:Annual Event
ATTACH;FMTTYPE=image/png:https://bosmansdamprimaryschool.co.za/wp-content/uploads/2020/10/hands-up-power.png
END:VEVENT
END:VCALENDAR